BEGIN:VCALENDAR
VERSION:2.0
PRODID:-//Welcome to the South Central Chapter - ECPv6.15.20//NONSGML v1.0//EN
CALSCALE:GREGORIAN
METHOD:PUBLISH
X-WR-CALNAME:Welcome to the South Central Chapter
X-ORIGINAL-URL:https://www.aca-scc.com
X-WR-CALDESC:Events for Welcome to the South Central Chapter
REFRESH-INTERVAL;VALUE=DURATION:PT1H
X-Robots-Tag:noindex
X-PUBLISHED-TTL:PT1H
BEGIN:VTIMEZONE
TZID:America/Chicago
BEGIN:DAYLIGHT
TZOFFSETFROM:-0600
TZOFFSETTO:-0500
TZNAME:CDT
DTSTART:20210314T080000
END:DAYLIGHT
BEGIN:STANDARD
TZOFFSETFROM:-0500
TZOFFSETTO:-0600
TZNAME:CST
DTSTART:20211107T070000
END:STANDARD
BEGIN:DAYLIGHT
TZOFFSETFROM:-0600
TZOFFSETTO:-0500
TZNAME:CDT
DTSTART:20220313T080000
END:DAYLIGHT
BEGIN:STANDARD
TZOFFSETFROM:-0500
TZOFFSETTO:-0600
TZNAME:CST
DTSTART:20221106T070000
END:STANDARD
BEGIN:DAYLIGHT
TZOFFSETFROM:-0600
TZOFFSETTO:-0500
TZNAME:CDT
DTSTART:20230312T080000
END:DAYLIGHT
BEGIN:STANDARD
TZOFFSETFROM:-0500
TZOFFSETTO:-0600
TZNAME:CST
DTSTART:20231105T070000
END:STANDARD
BEGIN:DAYLIGHT
TZOFFSETFROM:-0600
TZOFFSETTO:-0500
TZNAME:CDT
DTSTART:20240310T080000
END:DAYLIGHT
BEGIN:STANDARD
TZOFFSETFROM:-0500
TZOFFSETTO:-0600
TZNAME:CST
DTSTART:20241103T070000
END:STANDARD
BEGIN:DAYLIGHT
TZOFFSETFROM:-0600
TZOFFSETTO:-0500
TZNAME:CDT
DTSTART:20250309T080000
END:DAYLIGHT
BEGIN:STANDARD
TZOFFSETFROM:-0500
TZOFFSETTO:-0600
TZNAME:CST
DTSTART:20251102T070000
END:STANDARD
BEGIN:DAYLIGHT
TZOFFSETFROM:-0600
TZOFFSETTO:-0500
TZNAME:CDT
DTSTART:20260308T080000
END:DAYLIGHT
BEGIN:STANDARD
TZOFFSETFROM:-0500
TZOFFSETTO:-0600
TZNAME:CST
DTSTART:20261101T070000
END:STANDARD
END:VTIMEZONE
BEGIN:VTIMEZONE
TZID:America/Chicago
BEGIN:DAYLIGHT
TZOFFSETFROM:-0600
TZOFFSETTO:-0500
TZNAME:CDT
DTSTART:20220313T080000
END:DAYLIGHT
BEGIN:STANDARD
TZOFFSETFROM:-0500
TZOFFSETTO:-0600
TZNAME:CST
DTSTART:20221106T070000
END:STANDARD
BEGIN:DAYLIGHT
TZOFFSETFROM:-0600
TZOFFSETTO:-0500
TZNAME:CDT
DTSTART:20230312T080000
END:DAYLIGHT
BEGIN:STANDARD
TZOFFSETFROM:-0500
TZOFFSETTO:-0600
TZNAME:CST
DTSTART:20231105T070000
END:STANDARD
BEGIN:DAYLIGHT
TZOFFSETFROM:-0600
TZOFFSETTO:-0500
TZNAME:CDT
DTSTART:20240310T080000
END:DAYLIGHT
BEGIN:STANDARD
TZOFFSETFROM:-0500
TZOFFSETTO:-0600
TZNAME:CST
DTSTART:20241103T070000
END:STANDARD
END:VTIMEZONE
BEGIN:VTIMEZONE
TZID:UTC
BEGIN:STANDARD
TZOFFSETFROM:+0000
TZOFFSETTO:+0000
TZNAME:UTC
DTSTART:20200101T000000
END:STANDARD
END:VTIMEZONE
BEGIN:VEVENT
DTSTART;VALUE=DATE:20250929
DTEND;VALUE=DATE:20251004
DTSTAMP:20260423T101000
CREATED:20250806T142841Z
LAST-MODIFIED:20250806T142842Z
UID:1899-1759104000-1759535999@www.aca-scc.com
SUMMARY:ACA SCC Rally - Ft Smith AR
DESCRIPTION:Reservations….Call 479-300-8100 Be sure to let them know you are with the ACA rally for a 10% discount from the normal $65.00 per night rate. The sites that are blocked for us are 70’ pull thru but they have other options. You can go to their website and look at your options. (Fortsmithriverfrontrvresort.com) \nCost……$40 payable to South Central Chapter \n  \nWho is invited? \nAll members of American Coach Association
URL:https://www.aca-scc.com/event/aca-scc-rally-ft-smith-ar/
LOCATION:Riverfront RV Resort\, 1701 Riverfront Dr\, Fort Smith\, AR\, 72901\, United States
CATEGORIES:Rally
ATTACH;FMTTYPE=image/jpeg:https://www.aca-scc.com/wp-content/uploads/2025/08/Resort-Entrance.jpg
ORGANIZER;CN="Ron Williams":MAILTO:captron7758@gmail.com
END:VEVENT
BEGIN:VEVENT
DTSTART;VALUE=DATE:20240923
DTEND;VALUE=DATE:20240928
DTSTAMP:20260423T101000
CREATED:20240619T195832Z
LAST-MODIFIED:20240814T132144Z
UID:1890-1727049600-1727481599@www.aca-scc.com
SUMMARY:South Central Chapter Rally
DESCRIPTION:American Coach Association South Central Chapter Rally\nWhen….. September 23-27\, 2024 (4-nights)\nWhere…..*** Location Change **** New location is Texarkana RV Resort\nCall 903-306-1364 for reservations ($43.84 per night including tax)\nCost……$50 rally fee payable to South Central Chapter\nChecks can be mailed to Bryan Rodgers 2600 Jefferson Ave. Texarkana\, AR 71854\nPAYPAL to acatreasurer@yahoo.com\nActivities being planned…Social hour\, group breakfast\, group dinners\, men’s lunch\, ladies luncheon\, golf and exploring the Lake Charles area.\nWho is invited? All members of American Coach Association and their friends and invited guest even if they are SOB’s (some other brand). This rally is NOT exclusive to American Coach so invite your friends !
URL:https://www.aca-scc.com/event/south-central-chapter-rally/
LOCATION:Texarkana RV Resort\, 5000 South Lake Dr Texarkana\, Texarkana\, TX\, 75501\, United States
ATTACH;FMTTYPE=image/jpeg:https://www.aca-scc.com/wp-content/uploads/2024/06/cabins-1.jpg
ORGANIZER;CN="Bryan Rodgers":MAILTO:rodgersbk@aol.com
END:VEVENT
BEGIN:VEVENT
DTSTART;VALUE=DATE:20240717
DTEND;VALUE=DATE:20240721
DTSTAMP:20260423T101000
CREATED:20230725T140441Z
LAST-MODIFIED:20230725T140441Z
UID:1859-1721174400-1721519999@www.aca-scc.com
SUMMARY:National Rally - The Amana Colonies\, Amana Iowa
DESCRIPTION:  \n2024 ACA National Rally – \nThe Amana Colonies\, Amana\, Iowa\nHosted by Great Lakes Chapter\nThe 2024 ACA National Rally will be hosted by the Great Lakes Chapter and will take place at the Amana Colonies RV Park in Amana\, Iowa. The dates are July 17-20\, 2024. More detail will become available as the dates get closer
URL:https://www.aca-scc.com/event/national-rally-the-amana-colonies-amana-iowa/
LOCATION:Amana Colonies RV Park\, 3850 C St\, Amana\, IA\, 52203\, United States
CATEGORIES:National Rally
ATTACH;FMTTYPE=image/jpeg:https://www.aca-scc.com/wp-content/uploads/2023/07/Amana-Iowa.jpg
END:VEVENT
BEGIN:VEVENT
DTSTART;VALUE=DATE:20240514
DTEND;VALUE=DATE:20240519
DTSTAMP:20260423T101000
CREATED:20240206T164630Z
LAST-MODIFIED:20240219T030631Z
UID:1882-1715644800-1716076799@www.aca-scc.com
SUMMARY:Spring Rally
DESCRIPTION:Reservations: Call 580-798-4721 Rate is $45.00 per night pull thru\nA detailed agenda will be available shortly but activities being planned include the customary social hour the first evening\, Ladies and Men’s luncheons\, golf\,\ngroup breakfast and group dinners. This park is only 2 miles from The Winstar Casino for those that enjoy a game of chance. \nSCC Rally fee $50.00 \nPayPal is available if you have a PayPal account by using acasctreasurer@yahoo.com in the transfer money option. \nRally fee checks payable to South Central Chapter in the amount of $50.00 can be sent to \nBryan Rodgers\n2600 Jefferson Avenue\nTexarkana\, AR 71854\nor\nTodd Borman\n212 Nattie Woods\nHorseshoe Bay\, TX 78657
URL:https://www.aca-scc.com/event/spring-rally/
LOCATION:By The Lake\, 1031 Lodge Rd\, Ardmore\, OK\, 73401\, United States
ATTACH;FMTTYPE=image/png:https://www.aca-scc.com/wp-content/uploads/2024/02/ByTheLake.png
ORGANIZER;CN="Bryan Rodgers":MAILTO:rodgersbk@aol.com
END:VEVENT
BEGIN:VEVENT
DTSTART;VALUE=DATE:20231023
DTEND;VALUE=DATE:20231028
DTSTAMP:20260423T101000
CREATED:20230614T193931Z
LAST-MODIFIED:20230614T193932Z
UID:1855-1698019200-1698451199@www.aca-scc.com
SUMMARY:South Central Chapter & Missouri Valley Regional Rally
DESCRIPTION:Rally \n2023 Fall Rally in Hot Springs\, Arkansas \nOctober 23rd to October 27th 2023 \n\n*** Reservations for the rally are extremely time sensitive. You have until July 25th which is only 6 weeks away to make your reservation with these rates. Otherwise\, you will take a chance with getting a reservation of any kind.  \nRally Info: Catherine’s Landing in Hot Springs \n1700 Shady Grove Rd\, Hot Springs\, AR 71901 \nPhone: (501) 262-2550
URL:https://www.aca-scc.com/event/south-central-chapter-missouri-valley-regional-rally/
LOCATION:1700 Shady Grove Rd\, Hot Springs\, AR 71901\, 1700 Shady Grove Rd\, Hot Springs\, AR\, 71901\, United States
CATEGORIES:Rally
END:VEVENT
BEGIN:VEVENT
DTSTART;VALUE=DATE:20230531
DTEND;VALUE=DATE:20230604
DTSTAMP:20260423T101000
CREATED:20230109T141926Z
LAST-MODIFIED:20230109T141926Z
UID:1849-1685491200-1685836799@www.aca-scc.com
SUMMARY:South Central Spring Rally
DESCRIPTION:South Central Chapter\n2023 Spring Rally in Canton\, Texas\nMay 31st to June 3rd 2023 \n  \nHosts: Ron & Sheila Williams \n  \nRally Info: Canton KOA Holiday (https://koa.com/campgrounds/canton-tx/ ) \nPhone: 903-420-1400 \nRes Info: ask for Missy to make reservation \nDates: Starting on May 31st & ends June 3rd; leave on June 4th \nRates: Discounted Rates are: \n$50+tax/night for standard pull-thru’s \n$55+tax/night for premium sites (limited number) \nDirections: Canton is on I-20 just 37 miles NW of Tyler. \n  \nRally Fee: $45 \nPayPal method #1 – If you have a PayPal account\, you can make a direct payment to our treasurer (Albert) by using acaSCtreasurer@yahoo.com in the “Transfer Money” option. \nPayPal method #2 – you will be able to use this method once we have the link added to our SCC website. \nCheck – Make your check out to South Central Chapter of ACA and mail it in to: \nTodd Boorman \n212 Nattie Woods \nHorseshoe Bay\, TX  78657 \n  \nSpecial Rally Info: \n\nTrade days (First Monday) starts on Thursday June 1st\nOne-day activity will be a trip to the market (circus)\nOther activities are TDB with more to come as we get them developed
URL:https://www.aca-scc.com/event/south-central-spring-rally/
LOCATION:AR
CATEGORIES:Rally
ATTACH;FMTTYPE=image/jpeg:https://www.aca-scc.com/wp-content/uploads/2023/01/canton-koa.jpg
END:VEVENT
BEGIN:VEVENT
DTSTART;VALUE=DATE:20220927
DTEND;VALUE=DATE:20221001
DTSTAMP:20260423T101000
CREATED:20220628T150556Z
LAST-MODIFIED:20220628T150635Z
UID:1821-1664236800-1664582399@www.aca-scc.com
SUMMARY:South Central Fall Rally 2022
DESCRIPTION:Texarkana RV Park and Event Center\nThe Fall Rally site selection has been finalized and here are the details along with the instructions for you to follow: \n  \nInstructions: When you call the park to make your reservation\, tell them you are making your reservation for the American Coach South Central Chapter Fall Rally. If they seem lost on what to do\, you can tell them to look under Todd Boorman name for the reservation. If this does occur\, please let Todd know so he can address the issue with the park. His email is 1redwineman@gmail.com.  Todd has reserved 18 pull-thru sites with a few extra back-in sites for overflow. \n  \nWhere: Texarkana\, TX \nFall Rally Location : Texarkana RV Park and Event Center \nAddress: 5000 US-59 S\, Texarkana\, TX 75501 \nPhone: (903) 306-1364 \nDates : Sept. 27th – 30th  4 nights Tues. – Friday \nSite Cost:  $36 + Tax/night \n  \nRally Fee: $45 + $40 (first night stay) for a total of $85. Make your $85 check out to South Central Chapter of ACA and mail it to our Treasurer Stephanie Rivera. \nMailing address:  Stephanie Rivera \n7426 S. Staples Suite 105 \nCorpus Christi\, TX  78413
URL:https://www.aca-scc.com/event/south-central-fall-rally-2022/
LOCATION:Texarkana RV Resort\, 5000 US-59 S\, Texarkana\, TX\, 75501\, United States
END:VEVENT
BEGIN:VEVENT
DTSTART;VALUE=DATE:20220519
DTEND;VALUE=DATE:20220524
DTSTAMP:20260423T101000
CREATED:20210810T020526Z
LAST-MODIFIED:20210810T020526Z
UID:1736-1652918400-1653350399@www.aca-scc.com
SUMMARY:2022 National Rally
DESCRIPTION:2022 National Rally – more info coming!
URL:https://www.aca-scc.com/event/2022-national-rally/
LOCATION:Camp Hatteras\, The Outer Banks\, NC\, United States
CATEGORIES:National Rally
END:VEVENT
BEGIN:VEVENT
DTSTART;VALUE=DATE:20210928
DTEND;VALUE=DATE:20211002
DTSTAMP:20260423T101000
CREATED:20210810T005933Z
LAST-MODIFIED:20210913T211031Z
UID:1718-1632787200-1633132799@www.aca-scc.com
SUMMARY:Fall South Central Chapter Rally
DESCRIPTION:Call the Resort to make reservations.  Tell them you’re with the SCC of American Coach the rate is $60 a night. They will honor the rate 2 days prior and 2 days after the official rally dates. \nThey require 2 days deposit to book your spot.  You must cancel within 15 days of the rally in order to get a refund. \nIf you book more than 4 days\, the deposit is half the number of days of your stay. \nWe plan on having 2 Breakfast mornings  29th 30th.  Also 2 Dinner nights\, a Potluck night and a Protein Night 29th & 1st.  There will also be a walkaround morning of the 1st for Coach Issues. \nA ladies luncheon will be held on the 30th \nWe are also working on area attractions for the group to do while in Round Rock and surrounding areas. \nRally Fee $45 made out to: \nSouth Central Chapter ACA\n7426 S. Staples\nSuite 105\nCorpus Christi\, TX 78413 \nAgenda\nSept 28th\n\nCheck-in day and Meet & Greet 4:30- 6pm Rally Room\nBring your own drinks and an appetizer to share.\nDinner on your own.\n\nSept 29th\n\nBreakfast in Rally Room 7:30 – 9am Men are cooking!\nWaffles / Eggs / Bacon / Sausage !\n11:00 Carpool to Inner Space Caverns for a private guided tour.\nInformation and directions will be given at meeting\n( off I-35 North exit 259B )\n5:00 pm Protein night. Bring your own steak\, chicken or fish\nPlan on Cookout … Grills are provided. Bring your own sides.\n7:30 pm Dessert in the rally room. Build your own sundae!\nIce cream and your favorite toppings provided.\n\nSept 30th\n\n12:00 pm Ladies Luncheon : Cork & Barrel Craft Kitchen\n4000 E. Palm Valley Blvd. Round Rock\nCarpool together\nTurn Lt. onto 79 Go 1.9 miles and it’s on the right side.\n12:00 pm Men’s Luncheon : Salt Lick BBQ\nLt. onto 79 Go 2.6 miles\, turn Rt. On Harrell Pkwy.\nIt’s on the right. \n4:30 pm – Cocktail’s BYO and appetizers in the Rally Room\nGeneral Membership Meeting to follow @ 5:30\nDinner on your own.\n\nOct 1st\n\n7:30 – 9am Breakfast in Rally Room\n10:00 Coach Walk Around Information/Tips\n6:00 Dinner night out @ MASFAJITAS Private Room\n3050 Joe Dimaggo Blvd. Round Rock\nLt. onto 79 Go 2.8 miles. It’s on your Right side.\n\nOct 2nd Depart\nNumerous Fast Food and Restaurants along Hwy 79 both sides from I-35 all the way to Hutto \nWalmart is 1.2 miles West on hwy 79 Rt. Side\nHEB+ is 4.2 miles West on hwy 79 Rt. Side \nHospitals Seton Medical Center Williamson 6.4 mi. Seton Pkwy. Round Rock\nBaylor Scott & White Medical Center 9.1 mi.N. Mays St. Round Rock \nRed Bud Ranch RV Resort 211 Benelli Dr. Hutto\, TX. 512-265-8000\nFrom I-35 go east on Hwy 79 5.9 miles to Star Ranch Blvd turn Rt. Go to stop sign turn Rt.\nOn Benelli Rd. go to entrance on Lt.
URL:https://www.aca-scc.com/event/fall-south-central-chapter-rally/
LOCATION:Redbud Ranch RV Resort\, 211 Benelli Drive\, Hutto\, TX\, 78634\, United States
CATEGORIES:Rally
ATTACH;FMTTYPE=image/png:https://www.aca-scc.com/wp-content/uploads/2021/08/tmp_3894_6-22-2020_94503_.png
END:VEVENT
END:VCALENDAR